BEGIN:VCALENDAR
VERSION:2.0
PRODID:-//Tsunagari//Sushi Tech Tokyo 2026//EN
CALSCALE:GREGORIAN
METHOD:PUBLISH
X-WR-CALNAME:Tsunagari @ Sushi Tech Tokyo 2026
X-WR-TIMEZONE:Asia/Tokyo
BEGIN:VTIMEZONE
TZID:Asia/Tokyo
BEGIN:STANDARD
DTSTART:19700101T000000
TZOFFSETFROM:+0900
TZOFFSETTO:+0900
TZNAME:JST
END:STANDARD
END:VTIMEZONE
BEGIN:VEVENT
UID:sushi-tech-tokyo-2026-tsunagari-trial@tsunagari.gg
DTSTART;TZID=Asia/Tokyo:20260427T100000
DTEND;TZID=Asia/Tokyo:20260429T180000
SUMMARY:Tsunagari Trial Mode @ Sushi Tech Tokyo 2026\, Move&Feel @ Booth D-1086
DESCRIPTION:Try Tsunagari — the full-body motion gaming experience.\n\nCome
 find us at Sushi Tech Tokyo 2026 in Tokyo and experience the future of fighting
 games.\n\nMove&Feel @ Booth D-1086
LOCATION:Booth D-1086\, Tokyo\, Japan
SEQUENCE:1
STATUS:CONFIRMED
TRANSP:OPAQUE
END:VEVENT
END:VCALENDAR
